BEGIN:VCALENDAR
VERSION:2.0
PRODID:-//Gomera Vida - ECPv6.15.18//NONSGML v1.0//EN
CALSCALE:GREGORIAN
METHOD:PUBLISH
X-WR-CALNAME:Gomera Vida
X-ORIGINAL-URL:https://gomera-vida.es
X-WR-CALDESC:Évènements pour Gomera Vida
REFRESH-INTERVAL;VALUE=DURATION:PT1H
X-Robots-Tag:noindex
X-PUBLISHED-TTL:PT1H
BEGIN:VTIMEZONE
TZID:Atlantic/Canary
BEGIN:DAYLIGHT
TZOFFSETFROM:+0000
TZOFFSETTO:+0100
TZNAME:WEST
DTSTART:20250330T010000
END:DAYLIGHT
BEGIN:STANDARD
TZOFFSETFROM:+0100
TZOFFSETTO:+0000
TZNAME:WET
DTSTART:20251026T010000
END:STANDARD
BEGIN:DAYLIGHT
TZOFFSETFROM:+0000
TZOFFSETTO:+0100
TZNAME:WEST
DTSTART:20260329T010000
END:DAYLIGHT
BEGIN:STANDARD
TZOFFSETFROM:+0100
TZOFFSETTO:+0000
TZNAME:WET
DTSTART:20261025T010000
END:STANDARD
BEGIN:DAYLIGHT
TZOFFSETFROM:+0000
TZOFFSETTO:+0100
TZNAME:WEST
DTSTART:20270328T010000
END:DAYLIGHT
BEGIN:STANDARD
TZOFFSETFROM:+0100
TZOFFSETTO:+0000
TZNAME:WET
DTSTART:20271031T010000
END:STANDARD
END:VTIMEZONE
BEGIN:VEVENT
DTSTART;VALUE=DATE:20260907
DTEND;VALUE=DATE:20260917
DTSTAMP:20260423T063952
CREATED:20260113T234935Z
LAST-MODIFIED:20260113T234935Z
UID:10028631-1788739200-1789603199@gomera-vida.es
SUMMARY:Master Training Lomi Lomi 🌺
DESCRIPTION:Une formation pour les amoureux·ses du Lomi Lomi qui veulent aller “au bout” : affiner le bodywork\, élargir les possibilités du toucher\, et apprendre à adresser le corps\, l’âme et l’esprit. Le contenu annonce un approfondissement dans des lignées spécifiques (Lomi Oluli / Lomi Oluea) liées à Kahu Abraham (Kaua’i). L’intention est double : soulager les charges du corps\, raviver le feu intérieur\, et intégrer davantage les principes Kahuna pour que le geste devienne moins “faire” et plus “laisser faire”. Plus ces principes sont compris et incarnés\, plus le massage est décrit comme un état d’unité : donneur\, receveur et “ce qui est donné” se rejoignent\, et une autre dimension du soin apparaît — celle du flow\, comme langage de l’univers.
URL:https://gomera-vida.es/evenement/master-training-lomi-lomi-%f0%9f%8c%ba/
LOCATION:Domaine d’Argayall\, Accès à la plage d'Argaga\, 38870 Valle Gran Rey\, Santa Cruz de Tenerife
CATEGORIES:Séminaires
ATTACH;FMTTYPE=image/jpeg:https://gomera-vida.es/wp-content/uploads/2026/01/Gong-600x394-1.jpg
GEO:28.0849625;-17.3338839
X-APPLE-STRUCTURED-LOCATION;VALUE=URI;X-ADDRESS=Domaine d’Argayall Accès à la plage d'Argaga 38870 Valle Gran Rey Santa Cruz de Tenerife;X-APPLE-RADIUS=500;X-TITLE=Accès à la plage d'Argaga:geo:-17.3338839,28.0849625
END:VEVENT
BEGIN:VEVENT
DTSTART;VALUE=DATE:20260916
DTEND;VALUE=DATE:20260926
DTSTAMP:20260423T063952
CREATED:20260113T235111Z
LAST-MODIFIED:20260113T235111Z
UID:10028632-1789516800-1790380799@gomera-vida.es
SUMMARY:Lomi Lomi Beyond Master 🌺✨
DESCRIPTION:Un niveau destiné aux praticien·nes déjà “Master” qui souhaitent plonger encore plus profondément dans Lomi Lomi — et avancer aussi sur leur propre chemin. La proposition parle d’un voyage plus loin “vers les étoiles”\, nommé Ke ala Hoku : une voie d’exploration\, d’engagement et de raffinement. L’objectif n’est pas seulement d’ajouter des techniques\, mais de maturer la qualité de présence\, la compréhension du travail\, et l’alignement intérieur qui soutient le geste. C’est une invitation à approfondir l’essentiel : le toucher comme relation\, le flow comme guide\, et le bodywork comme chemin de conscience — à la fois pour soi et pour celles et ceux que l’on accompagne.
URL:https://gomera-vida.es/evenement/lomi-lomi-beyond-master-%f0%9f%8c%ba%e2%9c%a8/
LOCATION:Domaine d’Argayall\, Accès à la plage d'Argaga\, 38870 Valle Gran Rey\, Santa Cruz de Tenerife
CATEGORIES:Séminaires
ATTACH;FMTTYPE=image/jpeg:https://gomera-vida.es/wp-content/uploads/2026/01/Gong-600x394-1.jpg
GEO:28.0849625;-17.3338839
X-APPLE-STRUCTURED-LOCATION;VALUE=URI;X-ADDRESS=Domaine d’Argayall Accès à la plage d'Argaga 38870 Valle Gran Rey Santa Cruz de Tenerife;X-APPLE-RADIUS=500;X-TITLE=Accès à la plage d'Argaga:geo:-17.3338839,28.0849625
END:VEVENT
BEGIN:VEVENT
DTSTART;VALUE=DATE:20260926
DTEND;VALUE=DATE:20261004
DTSTAMP:20260423T063952
CREATED:20260113T235302Z
LAST-MODIFIED:20260113T235302Z
UID:10028633-1790380800-1791071999@gomera-vida.es
SUMMARY:Nourish The Bear Retreat 🐻☀️
DESCRIPTION:Un rassemblement “nourrissant” pour guérir\, se reconnecter et se régénérer\, sur l’île de La Gomera : soleil\, mer\, sable\, étoiles\, et nature à son meilleur. L’inspiration du “Bear Retreat” vient de l’automne : le moment où l’ours se prépare à l’hibernation en collectant nourriture\, eau et lumière\, puis en créant un refuge chaud et sûr. De la même manière\, ce retreat invite à ralentir\, s’assouplir\, savourer la chaleur\, la lumière et la joie de la communauté. À travers yoga\, méditation\, musique live\, kirtan\, danse et cérémonies\, vous créez un espace de renouveau. Il est aussi question de repos profond\, de mouvement\, de sound healing\, de journaling\, de cercles de partage\, d’observation des étoiles… et même de baignades libres en mer pour les plus aventureux·ses.
URL:https://gomera-vida.es/evenement/nourish-the-bear-retreat-%f0%9f%90%bb%e2%98%80%ef%b8%8f/
LOCATION:Domaine d’Argayall\, Accès à la plage d'Argaga\, 38870 Valle Gran Rey\, Santa Cruz de Tenerife
CATEGORIES:Séminaires
ATTACH;FMTTYPE=image/jpeg:https://gomera-vida.es/wp-content/uploads/2026/01/Gong-600x394-1.jpg
GEO:28.0849625;-17.3338839
X-APPLE-STRUCTURED-LOCATION;VALUE=URI;X-ADDRESS=Domaine d’Argayall Accès à la plage d'Argaga 38870 Valle Gran Rey Santa Cruz de Tenerife;X-APPLE-RADIUS=500;X-TITLE=Accès à la plage d'Argaga:geo:-17.3338839,28.0849625
END:VEVENT
END:VCALENDAR