BEGIN:VCALENDAR
VERSION:2.0
PRODID:-//Gomera Vida - ECPv6.15.18//NONSGML v1.0//EN
CALSCALE:GREGORIAN
METHOD:PUBLISH
X-WR-CALNAME:Gomera Vida
X-ORIGINAL-URL:https://gomera-vida.es
X-WR-CALDESC:Évènements pour Gomera Vida
REFRESH-INTERVAL;VALUE=DURATION:PT1H
X-Robots-Tag:noindex
X-PUBLISHED-TTL:PT1H
BEGIN:VTIMEZONE
TZID:Atlantic/Canary
BEGIN:DAYLIGHT
TZOFFSETFROM:+0000
TZOFFSETTO:+0100
TZNAME:WEST
DTSTART:20250330T010000
END:DAYLIGHT
BEGIN:STANDARD
TZOFFSETFROM:+0100
TZOFFSETTO:+0000
TZNAME:WET
DTSTART:20251026T010000
END:STANDARD
BEGIN:DAYLIGHT
TZOFFSETFROM:+0000
TZOFFSETTO:+0100
TZNAME:WEST
DTSTART:20260329T010000
END:DAYLIGHT
BEGIN:STANDARD
TZOFFSETFROM:+0100
TZOFFSETTO:+0000
TZNAME:WET
DTSTART:20261025T010000
END:STANDARD
BEGIN:DAYLIGHT
TZOFFSETFROM:+0000
TZOFFSETTO:+0100
TZNAME:WEST
DTSTART:20270328T010000
END:DAYLIGHT
BEGIN:STANDARD
TZOFFSETFROM:+0100
TZOFFSETTO:+0000
TZNAME:WET
DTSTART:20271031T010000
END:STANDARD
END:VTIMEZONE
BEGIN:VEVENT
DTSTART;VALUE=DATE:20260411
DTEND;VALUE=DATE:20260412
DTSTAMP:20260424T181220
CREATED:20260113T232247Z
LAST-MODIFIED:20260113T232247Z
UID:10028619-1775865600-1775951999@gomera-vida.es
SUMMARY:Hawaiian Touch Retreat Magic Touch ☀️
DESCRIPTION:Hawaiian Touch est présenté comme un art spirituel du soin : les mains deviennent une extension du cœur. Cette semaine invite à la détente profonde\, à la joie de vivre et à une conscience de soi transformante — que vous souhaitiez accompagner les autres (physique\, émotionnel\, spirituel) ou vivre une croissance intérieure intense. Au programme : Kahuna Bodywork (Lomi Lomi Nui) en approche avancée\, massage fluide et intuitif pour alignement énergétique ; “Flying”\, une méditation en mouvement mêlant souffle\, présence et rythme ; travail de conscience et méditations guidées pour se recentrer\, libérer des blocages\, se sentir plus clairement ; et des repères thérapeutiques pour soutenir l’humain de manière globale. L’axe central : l’authenticité. Plus on se connaît et s’accepte\, plus on peut toucher et accompagner vrai.
URL:https://gomera-vida.es/evenement/hawaiian-touch-retreat-magic-touch-%e2%98%80%ef%b8%8f/
LOCATION:Domaine d’Argayall\, Accès à la plage d'Argaga\, 38870 Valle Gran Rey\, Santa Cruz de Tenerife
CATEGORIES:Séminaires
ATTACH;FMTTYPE=image/jpeg:https://gomera-vida.es/wp-content/uploads/2026/01/Gong-600x394-1.jpg
GEO:28.0849625;-17.3338839
X-APPLE-STRUCTURED-LOCATION;VALUE=URI;X-ADDRESS=Domaine d’Argayall Accès à la plage d'Argaga 38870 Valle Gran Rey Santa Cruz de Tenerife;X-APPLE-RADIUS=500;X-TITLE=Accès à la plage d'Argaga:geo:-17.3338839,28.0849625
END:VEVENT
BEGIN:VEVENT
DTSTART;VALUE=DATE:20260411
DTEND;VALUE=DATE:20260419
DTSTAMP:20260424T181220
CREATED:20260113T232436Z
LAST-MODIFIED:20260113T232436Z
UID:10028620-1775865600-1776556799@gomera-vida.es
SUMMARY:Time Just for you 🌞
DESCRIPTION:Une retraite de yoga pensée comme une vraie pause : arriver pleinement “ici et maintenant”\, sans distractions\, sans pression de performance. Le fil rouge est l’amour de soi et le soin de soi : c’est la base sur laquelle se construit la pratique quotidienne. Les exercices de yoga\, les techniques de respiration et de relaxation sont adaptés aux besoins physiques et mentaux de chacun·e\, afin que l’expérience soit à la fois douce et profonde. Dans le cadre paradisiaque d’Argayall\, la semaine devient un espace pour se consacrer\, avec bienveillance\, aux sujets qui n’ont souvent pas de place dans le quotidien : fatigue\, tensions\, besoin de recentrage\, désir de simplicité\, besoin de se retrouver.
URL:https://gomera-vida.es/evenement/time-just-for-you-%f0%9f%8c%9e/
LOCATION:Domaine d’Argayall\, Accès à la plage d'Argaga\, 38870 Valle Gran Rey\, Santa Cruz de Tenerife
CATEGORIES:Séminaires
ATTACH;FMTTYPE=image/jpeg:https://gomera-vida.es/wp-content/uploads/2026/01/Gong-600x394-1.jpg
GEO:28.0849625;-17.3338839
X-APPLE-STRUCTURED-LOCATION;VALUE=URI;X-ADDRESS=Domaine d’Argayall Accès à la plage d'Argaga 38870 Valle Gran Rey Santa Cruz de Tenerife;X-APPLE-RADIUS=500;X-TITLE=Accès à la plage d'Argaga:geo:-17.3338839,28.0849625
END:VEVENT
END:VCALENDAR