BEGIN:VCALENDAR
VERSION:2.0
PRODID:-//Gomera Vida - ECPv6.15.18//NONSGML v1.0//EN
CALSCALE:GREGORIAN
METHOD:PUBLISH
X-ORIGINAL-URL:https://gomera-vida.es
X-WR-CALDESC:Évènements pour Gomera Vida
REFRESH-INTERVAL;VALUE=DURATION:PT1H
X-Robots-Tag:noindex
X-PUBLISHED-TTL:PT1H
BEGIN:VTIMEZONE
TZID:Atlantic/Canary
BEGIN:DAYLIGHT
TZOFFSETFROM:+0000
TZOFFSETTO:+0100
TZNAME:WEST
DTSTART:20250330T010000
END:DAYLIGHT
BEGIN:STANDARD
TZOFFSETFROM:+0100
TZOFFSETTO:+0000
TZNAME:WET
DTSTART:20251026T010000
END:STANDARD
BEGIN:DAYLIGHT
TZOFFSETFROM:+0000
TZOFFSETTO:+0100
TZNAME:WEST
DTSTART:20260329T010000
END:DAYLIGHT
BEGIN:STANDARD
TZOFFSETFROM:+0100
TZOFFSETTO:+0000
TZNAME:WET
DTSTART:20261025T010000
END:STANDARD
BEGIN:DAYLIGHT
TZOFFSETFROM:+0000
TZOFFSETTO:+0100
TZNAME:WEST
DTSTART:20270328T010000
END:DAYLIGHT
BEGIN:STANDARD
TZOFFSETFROM:+0100
TZOFFSETTO:+0000
TZNAME:WET
DTSTART:20271031T010000
END:STANDARD
END:VTIMEZONE
BEGIN:VEVENT
DTSTART;VALUE=DATE:20260228
DTEND;VALUE=DATE:20260308
DTSTAMP:20260425T132840
CREATED:20260113T231532Z
LAST-MODIFIED:20260113T231532Z
UID:10028616-1772236800-1772927999@gomera-vida.es
SUMMARY:The Hero’s Dance ✨
DESCRIPTION:Une aventure intérieure dans un lieu isolé\, entre montagnes volcaniques\, jardin-paradis et rythme de l’océan. L’invitation : sortir du “cercle du connu” et entrer dans un voyage de transformation et d’empowerment. À travers la danse consciente (Movement Medicine®) et des éléments de Gestalt\, vous rencontrez votre “héros intérieur” : celui qui ose regarder les résistances\, traverser les peurs et dialoguer avec ce qui freine. Le travail vise une conscience plus profonde de qui vous êtes\, et l’intégration de la lumière comme de l’ombre\, pour revenir plus ancré·e\, plus libre\, avec un sens renouvelé du but\, et davantage de joie et de créativité dans votre vie.
URL:https://gomera-vida.es/evenement/the-heros-dance-%e2%9c%a8/
LOCATION:Domaine d’Argayall\, Accès à la plage d'Argaga\, 38870 Valle Gran Rey\, Santa Cruz de Tenerife
CATEGORIES:Séminaires
ATTACH;FMTTYPE=image/jpeg:https://gomera-vida.es/wp-content/uploads/2026/01/Gong-600x394-1.jpg
GEO:28.0849625;-17.3338839
X-APPLE-STRUCTURED-LOCATION;VALUE=URI;X-ADDRESS=Domaine d’Argayall Accès à la plage d'Argaga 38870 Valle Gran Rey Santa Cruz de Tenerife;X-APPLE-RADIUS=500;X-TITLE=Accès à la plage d'Argaga:geo:-17.3338839,28.0849625
END:VEVENT
END:VCALENDAR