BEGIN:VCALENDAR
VERSION:2.0
PRODID:-//Gomera Vida - ECPv6.15.18//NONSGML v1.0//EN
CALSCALE:GREGORIAN
METHOD:PUBLISH
X-ORIGINAL-URL:https://gomera-vida.es
X-WR-CALDESC:Évènements pour Gomera Vida
REFRESH-INTERVAL;VALUE=DURATION:PT1H
X-Robots-Tag:noindex
X-PUBLISHED-TTL:PT1H
BEGIN:VTIMEZONE
TZID:Atlantic/Canary
BEGIN:DAYLIGHT
TZOFFSETFROM:+0000
TZOFFSETTO:+0100
TZNAME:WEST
DTSTART:20250330T010000
END:DAYLIGHT
BEGIN:STANDARD
TZOFFSETFROM:+0100
TZOFFSETTO:+0000
TZNAME:WET
DTSTART:20251026T010000
END:STANDARD
BEGIN:DAYLIGHT
TZOFFSETFROM:+0000
TZOFFSETTO:+0100
TZNAME:WEST
DTSTART:20260329T010000
END:DAYLIGHT
BEGIN:STANDARD
TZOFFSETFROM:+0100
TZOFFSETTO:+0000
TZNAME:WET
DTSTART:20261025T010000
END:STANDARD
BEGIN:DAYLIGHT
TZOFFSETFROM:+0000
TZOFFSETTO:+0100
TZNAME:WEST
DTSTART:20270328T010000
END:DAYLIGHT
BEGIN:STANDARD
TZOFFSETFROM:+0100
TZOFFSETTO:+0000
TZNAME:WET
DTSTART:20271031T010000
END:STANDARD
END:VTIMEZONE
BEGIN:VEVENT
DTSTART;VALUE=DATE:20260117
DTEND;VALUE=DATE:20260201
DTSTAMP:20260425T164446
CREATED:20260113T231048Z
LAST-MODIFIED:20260113T231048Z
UID:10028614-1768608000-1769903999@gomera-vida.es
SUMMARY:Mindful with yourself ☀️
DESCRIPTION:Un temps fort pour revenir à soi\, ralentir et retrouver de la clarté. Le séminaire propose un processus intense de réflexion et de “réveil” des cinq sens\, avec des espaces pour se reposer\, méditer et respirer le calme d’Argayall. L’accent est mis sur un coaching individuel : définir des objectifs justes\, réalistes et profondément alignés avec ce qui compte pour vous\, puis explorer comment les atteindre étape par étape. L’approche s’inspire du constructivisme radical et d’outils systémiques de la PNL (NLP)\, pour comprendre ses schémas\, élargir ses perspectives et créer des choix plus libres au quotidien.
URL:https://gomera-vida.es/evenement/mindful-with-yourself-%e2%98%80%ef%b8%8f/
LOCATION:Domaine d’Argayall\, Accès à la plage d'Argaga\, 38870 Valle Gran Rey\, Santa Cruz de Tenerife
CATEGORIES:Séminaires
ATTACH;FMTTYPE=image/jpeg:https://gomera-vida.es/wp-content/uploads/2026/01/Gong-600x394-1.jpg
GEO:28.0849625;-17.3338839
X-APPLE-STRUCTURED-LOCATION;VALUE=URI;X-ADDRESS=Domaine d’Argayall Accès à la plage d'Argaga 38870 Valle Gran Rey Santa Cruz de Tenerife;X-APPLE-RADIUS=500;X-TITLE=Accès à la plage d'Argaga:geo:-17.3338839,28.0849625
END:VEVENT
BEGIN:VEVENT
DTSTART;VALUE=DATE:20260131
DTEND;VALUE=DATE:20260301
DTSTAMP:20260425T164446
CREATED:20260113T231352Z
LAST-MODIFIED:20260113T231352Z
UID:10028615-1769817600-1772323199@gomera-vida.es
SUMMARY:LoveYourself Yoga Teacher Training 200 hours 🌿
DESCRIPTION:Une formation immersive où “training meets vacation” : apprentissage sérieux\, rythme de retraite\, vie communautaire et nature. Argayall devient un refuge pour se transformer\, guérir\, retrouver une vision nouvelle et adopter un mode de vie plus sain. Ce teacher training n’est pas réservé à celles et ceux qui veulent enseigner : il s’adresse aussi aux personnes qui souhaitent s’offrir un mois pour approfondir leur voie du yoga\, restaurer leur énergie et se réorienter. Le programme couvre les asanas\, bandhas\, pranayama\, kriyas\, mantras\, mudras\, les cinq éléments et les chakras (théorie + pratique)\, ainsi que l’anatomie\, la création de cours\, la méditation\, le yoga nidra\, l’histoire et la philosophie du yoga\, l’éthique\, le style de vie et des aspects plus “pro” de la transmission.
URL:https://gomera-vida.es/evenement/loveyourself-yoga-teacher-training-200-hours-%f0%9f%8c%bf/
LOCATION:Domaine d’Argayall\, Accès à la plage d'Argaga\, 38870 Valle Gran Rey\, Santa Cruz de Tenerife
CATEGORIES:Séminaires
ATTACH;FMTTYPE=image/jpeg:https://gomera-vida.es/wp-content/uploads/2026/01/Gong-600x394-1.jpg
GEO:28.0849625;-17.3338839
X-APPLE-STRUCTURED-LOCATION;VALUE=URI;X-ADDRESS=Domaine d’Argayall Accès à la plage d'Argaga 38870 Valle Gran Rey Santa Cruz de Tenerife;X-APPLE-RADIUS=500;X-TITLE=Accès à la plage d'Argaga:geo:-17.3338839,28.0849625
END:VEVENT
END:VCALENDAR