BEGIN:VCALENDAR
VERSION:2.0
PRODID:-//Gomera Vida - ECPv6.15.18//NONSGML v1.0//EN
CALSCALE:GREGORIAN
METHOD:PUBLISH
X-ORIGINAL-URL:https://gomera-vida.es
X-WR-CALDESC:Évènements pour Gomera Vida
REFRESH-INTERVAL;VALUE=DURATION:PT1H
X-Robots-Tag:noindex
X-PUBLISHED-TTL:PT1H
BEGIN:VTIMEZONE
TZID:Atlantic/Canary
BEGIN:DAYLIGHT
TZOFFSETFROM:+0000
TZOFFSETTO:+0100
TZNAME:WEST
DTSTART:20250330T010000
END:DAYLIGHT
BEGIN:STANDARD
TZOFFSETFROM:+0100
TZOFFSETTO:+0000
TZNAME:WET
DTSTART:20251026T010000
END:STANDARD
BEGIN:DAYLIGHT
TZOFFSETFROM:+0000
TZOFFSETTO:+0100
TZNAME:WEST
DTSTART:20260329T010000
END:DAYLIGHT
BEGIN:STANDARD
TZOFFSETFROM:+0100
TZOFFSETTO:+0000
TZNAME:WET
DTSTART:20261025T010000
END:STANDARD
BEGIN:DAYLIGHT
TZOFFSETFROM:+0000
TZOFFSETTO:+0100
TZNAME:WEST
DTSTART:20270328T010000
END:DAYLIGHT
BEGIN:STANDARD
TZOFFSETFROM:+0100
TZOFFSETTO:+0000
TZNAME:WET
DTSTART:20271031T010000
END:STANDARD
END:VTIMEZONE
BEGIN:VEVENT
DTSTART;VALUE=DATE:20260627
DTEND;VALUE=DATE:20260705
DTSTAMP:20260425T153519
CREATED:20260113T233607Z
LAST-MODIFIED:20260113T233607Z
UID:10028625-1782518400-1783209599@gomera-vida.es
SUMMARY:Coming home ☀️
DESCRIPTION:Une semaine de 5Rhythms® sur l’île volcanique de La Gomera\, vécue comme une force primitive dans l’océan. L’atelier part du corps comme cadeau : un lieu de sagesse\, de chagrin oublié\, de joie encore inconnue. À Argayall\, “Place of Light”\, entre feu\, roche\, eau et grand ciel\, vous dansez chaque jour (matin + fin d’après-midi) avec un espace libre au milieu pour explorer l’île\, nager\, marcher… ou simplement être. L’intention est de voyager autrement : ne pas courir vers un résultat\, mais goûter le chemin — y compris le trajet vers l’île\, pensé comme une transition hors du quotidien. On danse\, on partage\, on alterne repos et énergie\, et on revient encore et encore… à la maison\, en soi.
URL:https://gomera-vida.es/evenement/coming-home-%e2%98%80%ef%b8%8f/
LOCATION:Domaine d’Argayall\, Accès à la plage d'Argaga\, 38870 Valle Gran Rey\, Santa Cruz de Tenerife
CATEGORIES:Séminaires
ATTACH;FMTTYPE=image/jpeg:https://gomera-vida.es/wp-content/uploads/2026/01/Gong-600x394-1.jpg
GEO:28.0849625;-17.3338839
X-APPLE-STRUCTURED-LOCATION;VALUE=URI;X-ADDRESS=Domaine d’Argayall Accès à la plage d'Argaga 38870 Valle Gran Rey Santa Cruz de Tenerife;X-APPLE-RADIUS=500;X-TITLE=Accès à la plage d'Argaga:geo:-17.3338839,28.0849625
END:VEVENT
BEGIN:VEVENT
DTSTART;VALUE=DATE:20260704
DTEND;VALUE=DATE:20260712
DTSTAMP:20260425T153519
CREATED:20260113T233931Z
LAST-MODIFIED:20260113T233931Z
UID:10028626-1783123200-1783814399@gomera-vida.es
SUMMARY:Head off heart on 🌞🤡
DESCRIPTION:Ici\, la pleine conscience n’est pas forcément silencieuse ni assise en tailleur. Le clown et la mindfulness se rejoignent dans l’art d’être là : présence ouverte\, acceptation radicale\, accueil de ce qui est… même ce qui dérange. Le clown montre comment : être sans vouloir\, sentir sans juger\, accepter sans filtrer. À travers jeu\, mouvement\, moments de silence et exploration corporelle\, vous suivez un appel intérieur vers plus de liberté. On apprivoise le fait de trébucher\, d’échouer\, de s’émerveiller — et on y découvre de nouvelles facettes de soi\, plus vraies\, plus vulnérables\, plus vivantes. Le but : relier tête\, cœur et corps\, et retrouver une légèreté qui ne fuit pas la profondeur.
URL:https://gomera-vida.es/evenement/head-off-heart-on-%f0%9f%8c%9e%f0%9f%a4%a1/
LOCATION:Domaine d’Argayall\, Accès à la plage d'Argaga\, 38870 Valle Gran Rey\, Santa Cruz de Tenerife
CATEGORIES:Séminaires
ATTACH;FMTTYPE=image/jpeg:https://gomera-vida.es/wp-content/uploads/2026/01/Gong-600x394-1.jpg
GEO:28.0849625;-17.3338839
X-APPLE-STRUCTURED-LOCATION;VALUE=URI;X-ADDRESS=Domaine d’Argayall Accès à la plage d'Argaga 38870 Valle Gran Rey Santa Cruz de Tenerife;X-APPLE-RADIUS=500;X-TITLE=Accès à la plage d'Argaga:geo:-17.3338839,28.0849625
END:VEVENT
BEGIN:VEVENT
DTSTART;VALUE=DATE:20260718
DTEND;VALUE=DATE:20260719
DTSTAMP:20260425T153519
CREATED:20260113T234154Z
LAST-MODIFIED:20260113T234154Z
UID:10028627-1784332800-1784419199@gomera-vida.es
SUMMARY:Celebrating Tantra and Life ☀️💛
DESCRIPTION:Une parenthèse pour sortir du quotidien et plonger dans la connexion entre amour et sexualité\, avec une approche consciente et chaleureuse. L’atelier propose un “terrain de jeu” vivant : ouvrir le cœur\, réveiller le désir\, pratiquer méditation\, sensualité et extase. Les soirées se teintent de rituels tantriques\, de massages\, et d’un jeu Mars-Vénus présenté comme magique. La semaine met l’accent sur les rencontres conscientes\, le toucher attentif\, les moments de câlins\, les échanges vrais\, la liberté et aussi des idées pour nourrir le temps de pause (les longues pauses déjeuner\, typiques d’Argayall). Beaucoup de danse et de joie soutiennent un collectif fait de profondeur\, guérison\, élan érotique et douceur sécurisante — accessible avec ou sans expérience du tantra.
URL:https://gomera-vida.es/evenement/celebrating-tantra-and-life-%e2%98%80%ef%b8%8f%f0%9f%92%9b/
LOCATION:Domaine d’Argayall\, Accès à la plage d'Argaga\, 38870 Valle Gran Rey\, Santa Cruz de Tenerife
CATEGORIES:Séminaires
ATTACH;FMTTYPE=image/jpeg:https://gomera-vida.es/wp-content/uploads/2026/01/Gong-600x394-1.jpg
GEO:28.0849625;-17.3338839
X-APPLE-STRUCTURED-LOCATION;VALUE=URI;X-ADDRESS=Domaine d’Argayall Accès à la plage d'Argaga 38870 Valle Gran Rey Santa Cruz de Tenerife;X-APPLE-RADIUS=500;X-TITLE=Accès à la plage d'Argaga:geo:-17.3338839,28.0849625
END:VEVENT
BEGIN:VEVENT
DTSTART;VALUE=DATE:20260725
DTEND;VALUE=DATE:20260726
DTSTAMP:20260425T153519
CREATED:20260113T234404Z
LAST-MODIFIED:20260113T234404Z
UID:10028628-1784937600-1785023999@gomera-vida.es
SUMMARY:Lust and Love 💞✨
DESCRIPTION:Un séminaire pour couples qui considère amour et sexualité comme sacrés — et comme un appel intérieur vers plus de vérité\, de lien et de profondeur. L’expérience est décrite comme une “école tantrique” de guérison : redécouvrir qui vous êtes\, grandir ensemble\, et repartir avec des outils concrets. Vous explorez la polarité Shiva/Shakti\, l’ouverture du cœur\, l’excitation\, la méditation\, des éléments de slow sex\, la sensualité et l’extase\, ainsi que des rituels du soir et des massages “soignants”. L’accent est mis sur la rencontre consciente\, le toucher attentif\, des conseils de communication et d’amour au quotidien\, et une ambiance joyeuse et dansante. Le tout dans un cadre sécurisé\, adapté aux couples débutants comme expérimentés\, pour raviver passion et confiance.
URL:https://gomera-vida.es/evenement/lust-and-love-%f0%9f%92%9e%e2%9c%a8/
LOCATION:Domaine d’Argayall\, Accès à la plage d'Argaga\, 38870 Valle Gran Rey\, Santa Cruz de Tenerife
CATEGORIES:Séminaires
ATTACH;FMTTYPE=image/jpeg:https://gomera-vida.es/wp-content/uploads/2026/01/Gong-600x394-1.jpg
GEO:28.0849625;-17.3338839
X-APPLE-STRUCTURED-LOCATION;VALUE=URI;X-ADDRESS=Domaine d’Argayall Accès à la plage d'Argaga 38870 Valle Gran Rey Santa Cruz de Tenerife;X-APPLE-RADIUS=500;X-TITLE=Accès à la plage d'Argaga:geo:-17.3338839,28.0849625
END:VEVENT
BEGIN:VEVENT
DTSTART;VALUE=DATE:20260725
DTEND;VALUE=DATE:20260802
DTSTAMP:20260425T153519
CREATED:20260113T234545Z
LAST-MODIFIED:20260113T234545Z
UID:10028629-1784937600-1785628799@gomera-vida.es
SUMMARY:Jump into Life 🌞
DESCRIPTION:Un workshop 5Rhythms® comme une invitation simple et lumineuse : danser avec la légèreté de l’être et laisser la joie revenir dans la vie. L’exploration met l’accent sur le rythme “Lyrical”\, cette qualité de mouvement plus aérienne\, fluide\, ouverte — et l’accueil est international : danseurs et danseuses de partout. La proposition est douce mais profonde : retrouver de l’espace intérieur\, bouger sans se juger\, respirer dans le corps\, et laisser le mouvement remettre du vivant là où tout était devenu trop sérieux ou trop lourd. Une semaine pour se rebrancher au plaisir de danser\, à l’élan\, et à une joie qui n’a pas besoin d’être “méritée”. ☀️
URL:https://gomera-vida.es/evenement/jump-into-life-%f0%9f%8c%9e/
LOCATION:Domaine d’Argayall\, Accès à la plage d'Argaga\, 38870 Valle Gran Rey\, Santa Cruz de Tenerife
CATEGORIES:Séminaires
ATTACH;FMTTYPE=image/jpeg:https://gomera-vida.es/wp-content/uploads/2026/01/Gong-600x394-1.jpg
GEO:28.0849625;-17.3338839
X-APPLE-STRUCTURED-LOCATION;VALUE=URI;X-ADDRESS=Domaine d’Argayall Accès à la plage d'Argaga 38870 Valle Gran Rey Santa Cruz de Tenerife;X-APPLE-RADIUS=500;X-TITLE=Accès à la plage d'Argaga:geo:-17.3338839,28.0849625
END:VEVENT
END:VCALENDAR