BEGIN:VCALENDAR
VERSION:2.0
PRODID:-//Gomera Vida - ECPv6.15.18//NONSGML v1.0//EN
CALSCALE:GREGORIAN
METHOD:PUBLISH
X-ORIGINAL-URL:https://gomera-vida.es/es/
X-WR-CALDESC:Eventos para Gomera Vida
REFRESH-INTERVAL;VALUE=DURATION:PT1H
X-Robots-Tag:noindex
X-PUBLISHED-TTL:PT1H
BEGIN:VTIMEZONE
TZID:Atlantic/Canary
BEGIN:DAYLIGHT
TZOFFSETFROM:+0000
TZOFFSETTO:+0100
TZNAME:WEST
DTSTART:20250330T010000
END:DAYLIGHT
BEGIN:STANDARD
TZOFFSETFROM:+0100
TZOFFSETTO:+0000
TZNAME:WET
DTSTART:20251026T010000
END:STANDARD
BEGIN:DAYLIGHT
TZOFFSETFROM:+0000
TZOFFSETTO:+0100
TZNAME:WEST
DTSTART:20260329T010000
END:DAYLIGHT
BEGIN:STANDARD
TZOFFSETFROM:+0100
TZOFFSETTO:+0000
TZNAME:WET
DTSTART:20261025T010000
END:STANDARD
BEGIN:DAYLIGHT
TZOFFSETFROM:+0000
TZOFFSETTO:+0100
TZNAME:WEST
DTSTART:20270328T010000
END:DAYLIGHT
BEGIN:STANDARD
TZOFFSETFROM:+0100
TZOFFSETTO:+0000
TZNAME:WET
DTSTART:20271031T010000
END:STANDARD
END:VTIMEZONE
BEGIN:VEVENT
DTSTART;VALUE=DATE:20260425
DTEND;VALUE=DATE:20260503
DTSTAMP:20260425T123549
CREATED:20260113T233025Z
LAST-MODIFIED:20260113T233025Z
UID:10028662-1777075200-1777766399@gomera-vida.es
SUMMARY:Constelaciones de Familias y Sistemas 🌿
DESCRIPTION:Incluso cuando «lo hacemos lo mejor que podemos»\, algunas limitaciones vienen de más atrás: legados familiares\, lealtades invisibles\, pautas repetitivas. Las constelaciones familiares y sistémicas abren una nueva forma de ver las cosas: revelan pautas y enredos\, y nos permiten imaginar nuevas posibilidades. Durante esta semana\, trae tus preguntas\, problemas o decisiones\, y tómate el tiempo de escuchar: ¿qué es lo que realmente quiero? ¿hacia dónde se inclina mi corazón? ¿qué nuevo camino busca mi alma? El entorno está diseñado para estar protegido y atento\, para permitir que surjan cosas que necesitan ser vistas y puestas en orden\, y para apoyar elecciones que sean más justas\, sencillas y vivas.
URL:https://gomera-vida.es/es/evenement/family-and-system-constellations-%f0%9f%8c%bf/
LOCATION:finca Argayall\, Acceso a la Playa de Argaga\, 38870 Valle Gran Rey\, Santa Cruz de Tenerife
CATEGORIES:Seminarios
ATTACH;FMTTYPE=image/jpeg:https://gomera-vida.es/wp-content/uploads/2026/01/Gong-600x394-1.jpg
GEO:28.0827097;-17.3322691
X-APPLE-STRUCTURED-LOCATION;VALUE=URI;X-ADDRESS=finca Argayall Acceso a la Playa de Argaga 38870 Valle Gran Rey Santa Cruz de Tenerife;X-APPLE-RADIUS=500;X-TITLE=Acceso a la Playa de Argaga:geo:-17.3322691,28.0827097
END:VEVENT
BEGIN:VEVENT
DTSTART;VALUE=DATE:20260502
DTEND;VALUE=DATE:20260524
DTSTAMP:20260425T123549
CREATED:20260113T233211Z
LAST-MODIFIED:20260113T233211Z
UID:10028665-1777680000-1779580799@gomera-vida.es
SUMMARY:Retiro de ayuno terapéutico Dr. Buchinger ☀️
DESCRIPTION:Un retiro de ayuno terapéutico inspirado en el método Buchinger\, diseñado para devolver la armonía al cuerpo\, la mente y la vitalidad. Está cuidadosamente acompañado de información clara\, consejos prácticos\, comprensión de los efectos del ayuno sobre la regeneración\, los órganos de eliminación y el sistema nervioso\, y formas de integrar el ayuno en la vida cotidiana. El programa combina prácticas físicas e introspectivas: tratamientos tipo Kneipp y cepillado en seco\, respiración (incluido el renacimiento)\, meditaciones guiadas y viajes interiores\, movimiento consciente y danza libre\, estiramientos\, trabajo de espalda\, pilates «equilibrio corporal»\, relajación… todo ello vinculado a los elementos y la naturaleza de Argayall. El programa incluye días de desintoxicación\, días de ayuno (que pueden ampliarse con asesoramiento médico) y días de recuperación.
URL:https://gomera-vida.es/es/evenement/therapeutic-fasting-retreat-dr-buchinger-%e2%98%80%ef%b8%8f/
LOCATION:finca Argayall\, Acceso a la Playa de Argaga\, 38870 Valle Gran Rey\, Santa Cruz de Tenerife
CATEGORIES:Seminarios
ATTACH;FMTTYPE=image/jpeg:https://gomera-vida.es/wp-content/uploads/2026/01/Gong-600x394-1.jpg
GEO:28.0827097;-17.3322691
X-APPLE-STRUCTURED-LOCATION;VALUE=URI;X-ADDRESS=finca Argayall Acceso a la Playa de Argaga 38870 Valle Gran Rey Santa Cruz de Tenerife;X-APPLE-RADIUS=500;X-TITLE=Acceso a la Playa de Argaga:geo:-17.3322691,28.0827097
END:VEVENT
BEGIN:VEVENT
DTSTART;VALUE=DATE:20260530
DTEND;VALUE=DATE:20260531
DTSTAMP:20260425T123549
CREATED:20260113T233349Z
LAST-MODIFIED:20260113T233349Z
UID:10028670-1780099200-1780185599@gomera-vida.es
SUMMARY:Tantra Vacaciones Cómo renacer ✨
DESCRIPTION:Una semana de «vacaciones y transformación» en un lugar mágico: trabajo corporal\, trabajo energético\, renacimiento\, tantra y yoga se entrelazan para abrir un espacio de conciencia y alegría. La experiencia invita a la introspección\, a potentes meditaciones\, al yoga de la risa y a encuentros más atentos\, para solteros y parejas\, principiantes y ya familiarizados. El espíritu es también el de un verdadero descanso: salidas compartidas\, senderismo\, veladas con hogueras\, tiempo para nadar y descansar\, e incluso una visita opcional al huerto frutal. La intención es que la transformación sea viva\, con cuerpo y también ligera… como unas vacaciones para el alma\, con corazón\, aliento y sol. ☀️
URL:https://gomera-vida.es/es/evenement/tantra-holiday-how-to-be-reborn-%e2%9c%a8/
LOCATION:finca Argayall\, Acceso a la Playa de Argaga\, 38870 Valle Gran Rey\, Santa Cruz de Tenerife
CATEGORIES:Seminarios
ATTACH;FMTTYPE=image/jpeg:https://gomera-vida.es/wp-content/uploads/2026/01/Gong-600x394-1.jpg
GEO:28.0827097;-17.3322691
X-APPLE-STRUCTURED-LOCATION;VALUE=URI;X-ADDRESS=finca Argayall Acceso a la Playa de Argaga 38870 Valle Gran Rey Santa Cruz de Tenerife;X-APPLE-RADIUS=500;X-TITLE=Acceso a la Playa de Argaga:geo:-17.3322691,28.0827097
END:VEVENT
BEGIN:VEVENT
DTSTART;VALUE=DATE:20260627
DTEND;VALUE=DATE:20260705
DTSTAMP:20260425T123549
CREATED:20260113T233607Z
LAST-MODIFIED:20260113T233607Z
UID:10028669-1782518400-1783209599@gomera-vida.es
SUMMARY:Volviendo a casa ☀️
DESCRIPTION:Una semana de 5Ritmos® en la isla volcánica de La Gomera\, vivida como una fuerza primitiva en el océano. El taller comienza con el cuerpo como regalo: un lugar de sabiduría\, de pena olvidada\, de alegría aún desconocida. En Argayall\, «Lugar de Luz»\, entre el fuego\, la roca\, el agua y el gran cielo\, se baila cada día (mañana + tarde) con un espacio libre en medio para explorar la isla\, nadar\, pasear… o simplemente estar. La intención es viajar de un modo diferente: no corriendo hacia un resultado\, sino disfrutando del viaje -incluido el viaje a la isla\, concebido como una transición lejos de lo cotidiano. Bailamos\, compartimos\, alternamos descanso y energía\, y volvemos una y otra vez… a casa\, a nosotros mismos.
URL:https://gomera-vida.es/es/evenement/coming-home-%e2%98%80%ef%b8%8f/
LOCATION:finca Argayall\, Acceso a la Playa de Argaga\, 38870 Valle Gran Rey\, Santa Cruz de Tenerife
CATEGORIES:Seminarios
ATTACH;FMTTYPE=image/jpeg:https://gomera-vida.es/wp-content/uploads/2026/01/Gong-600x394-1.jpg
GEO:28.0827097;-17.3322691
X-APPLE-STRUCTURED-LOCATION;VALUE=URI;X-ADDRESS=finca Argayall Acceso a la Playa de Argaga 38870 Valle Gran Rey Santa Cruz de Tenerife;X-APPLE-RADIUS=500;X-TITLE=Acceso a la Playa de Argaga:geo:-17.3322691,28.0827097
END:VEVENT
BEGIN:VEVENT
DTSTART;VALUE=DATE:20260704
DTEND;VALUE=DATE:20260712
DTSTAMP:20260425T123549
CREATED:20260113T233931Z
LAST-MODIFIED:20260113T233931Z
UID:10028675-1783123200-1783814399@gomera-vida.es
SUMMARY:Cabeza fuera corazón dentro 🌞🤡
DESCRIPTION:Aquí\, mindfulness no tiene por qué significar silencio o sentarse con las piernas cruzadas. El clown y la atención plena se unen en el arte de estar ahí: presencia abierta\, aceptación radical\, acogida de lo que es… incluso de lo que molesta. El payaso muestra cómo: ser sin querer\, sentir sin juzgar\, aceptar sin filtrar. A través del juego\, el movimiento\, los momentos de silencio y la exploración corporal\, seguirás una llamada interior hacia una mayor libertad. Aprenderás a afrontar los tropiezos\, los fracasos y las maravillas\, y descubrirás nuevas facetas de ti mismo más verdaderas\, más vulnerables y más vivas. El objetivo: conectar cabeza\, corazón y cuerpo\, y redescubrir una ligereza que no rehúye la profundidad.
URL:https://gomera-vida.es/es/evenement/head-off-heart-on-%f0%9f%8c%9e%f0%9f%a4%a1/
LOCATION:finca Argayall\, Acceso a la Playa de Argaga\, 38870 Valle Gran Rey\, Santa Cruz de Tenerife
CATEGORIES:Seminarios
ATTACH;FMTTYPE=image/jpeg:https://gomera-vida.es/wp-content/uploads/2026/01/Gong-600x394-1.jpg
GEO:28.0827097;-17.3322691
X-APPLE-STRUCTURED-LOCATION;VALUE=URI;X-ADDRESS=finca Argayall Acceso a la Playa de Argaga 38870 Valle Gran Rey Santa Cruz de Tenerife;X-APPLE-RADIUS=500;X-TITLE=Acceso a la Playa de Argaga:geo:-17.3322691,28.0827097
END:VEVENT
BEGIN:VEVENT
DTSTART;VALUE=DATE:20260718
DTEND;VALUE=DATE:20260719
DTSTAMP:20260425T123549
CREATED:20260113T234154Z
LAST-MODIFIED:20260113T234154Z
UID:10028676-1784332800-1784419199@gomera-vida.es
SUMMARY:Celebrando el Tantra y la Vida ☀️💛
DESCRIPTION:Una pausa en la rutina diaria para profundizar en la conexión entre el amor y la sexualidad\, con un enfoque cálido y consciente. El taller ofrece un «patio de recreo» viviente: abrir el corazón\, despertar el deseo\, practicar la meditación\, la sensualidad y el éxtasis. Las veladas incluyen rituales tántricos\, masajes y un juego mágico Marte-Venus. La semana se centra en los encuentros conscientes\, el tacto atento\, los momentos de mimos\, los intercambios reales\, la libertad y también en ideas para nutrir los descansos (las largas pausas para comer típicas de Argayall). Mucha danza y alegría apuntalan un colectivo de profundidad\, sanación\, ímpetu erótico y dulzura tranquilizadora\, accesible con o sin experiencia en Tantra.
URL:https://gomera-vida.es/es/evenement/celebrating-tantra-and-life-%e2%98%80%ef%b8%8f%f0%9f%92%9b/
LOCATION:finca Argayall\, Acceso a la Playa de Argaga\, 38870 Valle Gran Rey\, Santa Cruz de Tenerife
CATEGORIES:Seminarios
ATTACH;FMTTYPE=image/jpeg:https://gomera-vida.es/wp-content/uploads/2026/01/Gong-600x394-1.jpg
GEO:28.0827097;-17.3322691
X-APPLE-STRUCTURED-LOCATION;VALUE=URI;X-ADDRESS=finca Argayall Acceso a la Playa de Argaga 38870 Valle Gran Rey Santa Cruz de Tenerife;X-APPLE-RADIUS=500;X-TITLE=Acceso a la Playa de Argaga:geo:-17.3322691,28.0827097
END:VEVENT
BEGIN:VEVENT
DTSTART;VALUE=DATE:20260725
DTEND;VALUE=DATE:20260726
DTSTAMP:20260425T123549
CREATED:20260113T234404Z
LAST-MODIFIED:20260113T234404Z
UID:10028683-1784937600-1785023999@gomera-vida.es
SUMMARY:Lujuria y Amor 💞✨
DESCRIPTION:Un seminario para parejas que considera el amor y la sexualidad como algo sagrado\, y como una llamada interior a una mayor verdad\, conexión y profundidad. La experiencia se describe como una «escuela tántrica» de sanación: redescubrir quiénes sois\, crecer juntos y marcharos con herramientas concretas. Exploras la polaridad Shiva/Shakti\, la apertura del corazón\, la excitación\, la meditación\, elementos del sexo lento\, la sensualidad y el éxtasis\, así como rituales nocturnos y masajes «curativos». Se hace hincapié en los encuentros conscientes\, el tacto atento\, los consejos sobre la comunicación y el amor cotidianos\, y un ambiente alegre y bailable. Todo ello en un entorno seguro\, adecuado tanto para principiantes como para parejas experimentadas\, para reavivar la pasión y la confianza.
URL:https://gomera-vida.es/es/evenement/lust-and-love-%f0%9f%92%9e%e2%9c%a8/
LOCATION:finca Argayall\, Acceso a la Playa de Argaga\, 38870 Valle Gran Rey\, Santa Cruz de Tenerife
CATEGORIES:Seminarios
ATTACH;FMTTYPE=image/jpeg:https://gomera-vida.es/wp-content/uploads/2026/01/Gong-600x394-1.jpg
GEO:28.0827097;-17.3322691
X-APPLE-STRUCTURED-LOCATION;VALUE=URI;X-ADDRESS=finca Argayall Acceso a la Playa de Argaga 38870 Valle Gran Rey Santa Cruz de Tenerife;X-APPLE-RADIUS=500;X-TITLE=Acceso a la Playa de Argaga:geo:-17.3322691,28.0827097
END:VEVENT
BEGIN:VEVENT
DTSTART;VALUE=DATE:20260725
DTEND;VALUE=DATE:20260802
DTSTAMP:20260425T123549
CREATED:20260113T234545Z
LAST-MODIFIED:20260113T234545Z
UID:10028678-1784937600-1785628799@gomera-vida.es
SUMMARY:Salta a la vida 🌞
DESCRIPTION:Un taller de 5Ritmos® como invitación sencilla y luminosa: baila con la ligereza del ser y deja que la alegría vuelva a la vida. La exploración se centra en el ritmo «Lírico»\, esa cualidad más etérea\, fluida y abierta del movimiento\, y la acogida es internacional: bailarines de todo el mundo. La idea es suave pero profunda: redescubrir el espacio interior\, moverse sin juzgarse\, respirar en el cuerpo y dejar que el movimiento devuelva la vida a cosas que se habían vuelto demasiado serias o pesadas. Una semana para volver a conectar con el placer de bailar\, con el impulso y con una alegría que no hay que «ganarse». ☀️
URL:https://gomera-vida.es/es/evenement/jump-into-life-%f0%9f%8c%9e/
LOCATION:finca Argayall\, Acceso a la Playa de Argaga\, 38870 Valle Gran Rey\, Santa Cruz de Tenerife
CATEGORIES:Seminarios
ATTACH;FMTTYPE=image/jpeg:https://gomera-vida.es/wp-content/uploads/2026/01/Gong-600x394-1.jpg
GEO:28.0827097;-17.3322691
X-APPLE-STRUCTURED-LOCATION;VALUE=URI;X-ADDRESS=finca Argayall Acceso a la Playa de Argaga 38870 Valle Gran Rey Santa Cruz de Tenerife;X-APPLE-RADIUS=500;X-TITLE=Acceso a la Playa de Argaga:geo:-17.3322691,28.0827097
END:VEVENT
BEGIN:VEVENT
DTSTART;VALUE=DATE:20260801
DTEND;VALUE=DATE:20260830
DTSTAMP:20260425T123549
CREATED:20260113T234747Z
LAST-MODIFIED:20260113T234747Z
UID:10028684-1785542400-1788047999@gomera-vida.es
SUMMARY:Experiencia Argayall 🌿☀️
DESCRIPTION:Todo un mes como viaje de autoexploración\, comunidad y cocreación. La experiencia está dirigida a jóvenes adultos\, y también a los que son «jóvenes de corazón». El programa mezcla aprendizaje y trabajo práctico en los distintos departamentos de la finca\, con un enfoque de «aprender trabajando»\, y la integración de tres talleres intensivos a lo largo del mes. Descubrirás lo que significa vivir en comunidad: cultivar parte de tus propios alimentos en un huerto de permacultura\, cocinar comida vegetariana sana\, meditar\, bailar\, conectar con la naturaleza y preguntarte qué es lo esencial: qué es lo que realmente importa\, cuál es mi objetivo\, cómo puedo vivir de otra manera… El grupo (de unas 12 a 20 personas) también construye su propio círculo\, sienta las bases y avanza unido\, a menudo fuera de su zona de confort\, pero «en la magia»\, animado por la seguridad del lugar y del colectivo.
URL:https://gomera-vida.es/es/evenement/argayall-experience-%f0%9f%8c%bf%e2%98%80%ef%b8%8f/
LOCATION:finca Argayall\, Acceso a la Playa de Argaga\, 38870 Valle Gran Rey\, Santa Cruz de Tenerife
CATEGORIES:Seminarios
ATTACH;FMTTYPE=image/jpeg:https://gomera-vida.es/wp-content/uploads/2026/01/Gong-600x394-1.jpg
GEO:28.0827097;-17.3322691
X-APPLE-STRUCTURED-LOCATION;VALUE=URI;X-ADDRESS=finca Argayall Acceso a la Playa de Argaga 38870 Valle Gran Rey Santa Cruz de Tenerife;X-APPLE-RADIUS=500;X-TITLE=Acceso a la Playa de Argaga:geo:-17.3322691,28.0827097
END:VEVENT
BEGIN:VEVENT
DTSTART;VALUE=DATE:20260907
DTEND;VALUE=DATE:20260917
DTSTAMP:20260425T123549
CREATED:20260113T234935Z
LAST-MODIFIED:20260113T234935Z
UID:10028694-1788739200-1789603199@gomera-vida.es
SUMMARY:Formación de Maestro Lomi Lomi 🌺
DESCRIPTION:Un curso para amantes del Lomi Lomi que quieran llegar «hasta el final»: perfeccionar el trabajo corporal\, ampliar las posibilidades del tacto y aprender a abordar el cuerpo\, la mente y el espíritu. El contenido anuncia una profundización en linajes específicos (Lomi Oluli / Lomi Oluea) vinculados a Kahu Abraham (Kaua’i). La intención es doble: aliviar las cargas del cuerpo\, reavivar el fuego interior e integrar más plenamente los principios Kahuna para que el gesto sea menos «hacer» y más «dejar hacer». Cuanto más se comprenden y encarnan estos principios\, más se describe el masaje como un estado de unidad: dador\, receptor y «lo que se da» se unen\, y aparece otra dimensión del cuidado: la del flujo\, como lenguaje del universo.
URL:https://gomera-vida.es/es/evenement/master-training-lomi-lomi-%f0%9f%8c%ba/
LOCATION:finca Argayall\, Acceso a la Playa de Argaga\, 38870 Valle Gran Rey\, Santa Cruz de Tenerife
CATEGORIES:Seminarios
ATTACH;FMTTYPE=image/jpeg:https://gomera-vida.es/wp-content/uploads/2026/01/Gong-600x394-1.jpg
GEO:28.0827097;-17.3322691
X-APPLE-STRUCTURED-LOCATION;VALUE=URI;X-ADDRESS=finca Argayall Acceso a la Playa de Argaga 38870 Valle Gran Rey Santa Cruz de Tenerife;X-APPLE-RADIUS=500;X-TITLE=Acceso a la Playa de Argaga:geo:-17.3322691,28.0827097
END:VEVENT
BEGIN:VEVENT
DTSTART;VALUE=DATE:20260916
DTEND;VALUE=DATE:20260926
DTSTAMP:20260425T123549
CREATED:20260113T235111Z
LAST-MODIFIED:20260113T235111Z
UID:10028697-1789516800-1790380799@gomera-vida.es
SUMMARY:Lomi Lomi Más allá del Maestro 🌺✨
DESCRIPTION:Un nivel diseñado para practicantes que ya son «Maestros» y desean profundizar aún más en el Lomi Lomi\, y avanzar también en su propio camino. Se propone un viaje más «hacia las estrellas»\, denominado Ke ala Hoku: un camino de exploración\, compromiso y perfeccionamiento. El objetivo no es sólo añadir técnicas\, sino madurar la calidad de la presencia\, la comprensión del trabajo y la alineación interior que sustenta el gesto. Es una invitación a profundizar en lo esencial: el tacto como relación\, el flujo como guía y el trabajo corporal como camino de conciencia\, tanto para nosotros mismos como para aquellos con los que trabajamos.
URL:https://gomera-vida.es/es/evenement/lomi-lomi-beyond-master-%f0%9f%8c%ba%e2%9c%a8/
LOCATION:finca Argayall\, Acceso a la Playa de Argaga\, 38870 Valle Gran Rey\, Santa Cruz de Tenerife
CATEGORIES:Seminarios
ATTACH;FMTTYPE=image/jpeg:https://gomera-vida.es/wp-content/uploads/2026/01/Gong-600x394-1.jpg
GEO:28.0827097;-17.3322691
X-APPLE-STRUCTURED-LOCATION;VALUE=URI;X-ADDRESS=finca Argayall Acceso a la Playa de Argaga 38870 Valle Gran Rey Santa Cruz de Tenerife;X-APPLE-RADIUS=500;X-TITLE=Acceso a la Playa de Argaga:geo:-17.3322691,28.0827097
END:VEVENT
BEGIN:VEVENT
DTSTART;VALUE=DATE:20260926
DTEND;VALUE=DATE:20261004
DTSTAMP:20260425T123549
CREATED:20260113T235302Z
LAST-MODIFIED:20260113T235302Z
UID:10028690-1790380800-1791071999@gomera-vida.es
SUMMARY:Retiro Nutrir al Oso 🐻☀️
DESCRIPTION:Un encuentro «nutritivo» para sanar\, reconectar y regenerar\, en la isla de La Gomera: sol\, mar\, arena\, estrellas y naturaleza en estado puro. La inspiración para el Retiro del Oso procede del otoño: la época en que los osos se preparan para la hibernación reuniendo comida\, agua y luz\, y creando después un refugio cálido y seguro. Del mismo modo\, este retiro te invita a bajar el ritmo\, relajarte y disfrutar de la calidez\, la luz y la alegría de la comunidad. Mediante el yoga\, la meditación\, la música en directo\, el kirtan\, la danza y la ceremonia\, creas un espacio de renovación. También hay descanso profundo\, movimiento\, sanación con sonidos\, diarios\, círculos para compartir\, observación de las estrellas… e incluso baño libre en el mar para los más aventureros.
URL:https://gomera-vida.es/es/evenement/nourish-the-bear-retreat-%f0%9f%90%bb%e2%98%80%ef%b8%8f/
LOCATION:finca Argayall\, Acceso a la Playa de Argaga\, 38870 Valle Gran Rey\, Santa Cruz de Tenerife
CATEGORIES:Seminarios
ATTACH;FMTTYPE=image/jpeg:https://gomera-vida.es/wp-content/uploads/2026/01/Gong-600x394-1.jpg
GEO:28.0827097;-17.3322691
X-APPLE-STRUCTURED-LOCATION;VALUE=URI;X-ADDRESS=finca Argayall Acceso a la Playa de Argaga 38870 Valle Gran Rey Santa Cruz de Tenerife;X-APPLE-RADIUS=500;X-TITLE=Acceso a la Playa de Argaga:geo:-17.3322691,28.0827097
END:VEVENT
END:VCALENDAR