BEGIN:VCALENDAR
VERSION:2.0
PRODID:-//Gomera Vida - ECPv6.15.18//NONSGML v1.0//EN
CALSCALE:GREGORIAN
METHOD:PUBLISH
X-WR-CALNAME:Gomera Vida
X-ORIGINAL-URL:https://gomera-vida.es/es/
X-WR-CALDESC:Eventos para Gomera Vida
REFRESH-INTERVAL;VALUE=DURATION:PT1H
X-Robots-Tag:noindex
X-PUBLISHED-TTL:PT1H
BEGIN:VTIMEZONE
TZID:Atlantic/Canary
BEGIN:DAYLIGHT
TZOFFSETFROM:+0000
TZOFFSETTO:+0100
TZNAME:WEST
DTSTART:20250330T010000
END:DAYLIGHT
BEGIN:STANDARD
TZOFFSETFROM:+0100
TZOFFSETTO:+0000
TZNAME:WET
DTSTART:20251026T010000
END:STANDARD
BEGIN:DAYLIGHT
TZOFFSETFROM:+0000
TZOFFSETTO:+0100
TZNAME:WEST
DTSTART:20260329T010000
END:DAYLIGHT
BEGIN:STANDARD
TZOFFSETFROM:+0100
TZOFFSETTO:+0000
TZNAME:WET
DTSTART:20261025T010000
END:STANDARD
BEGIN:DAYLIGHT
TZOFFSETFROM:+0000
TZOFFSETTO:+0100
TZNAME:WEST
DTSTART:20270328T010000
END:DAYLIGHT
BEGIN:STANDARD
TZOFFSETFROM:+0100
TZOFFSETTO:+0000
TZNAME:WET
DTSTART:20271031T010000
END:STANDARD
END:VTIMEZONE
BEGIN:VEVENT
DTSTART;VALUE=DATE:20260425
DTEND;VALUE=DATE:20260426
DTSTAMP:20260425T024205
CREATED:20260113T232840Z
LAST-MODIFIED:20260113T232840Z
UID:10028659-1777075200-1777161599@gomera-vida.es
SUMMARY:Descubrir la verdad de nuestro corazón ✨
DESCRIPTION:Un retiro a distancia en plena naturaleza para desconectar\, recargar las pilas y recuperar el impulso. El programa incluye tus sesiones principales\, además de ofertas opcionales de la comunidad (meditaciones\, movimiento\, danza\, yoga)\, o la oportunidad de simplemente descansar. Las clases matinales abren el cuerpo y la respiración\, pasan a un flujo dinámico y luego vuelven a la tranquilidad. Cada sesión se centra en un chakra: cualidades físicas\, energéticas\, emocionales y mentales\, para una mayor fuerza\, flexibilidad y autocomprensión. Las tardes exploran el espacio interior donde podemos escuchar los mensajes del corazón: movimiento libre\, sonidos\, yin yoga\, mantras\, cantos\, meditación… para alimentar la intuición y el fuego interior\, y salir preparados para actuar de forma alineada.
URL:https://gomera-vida.es/es/evenement/uncover-our-hearts-truth-%e2%9c%a8/
LOCATION:finca Argayall\, Acceso a la Playa de Argaga\, 38870 Valle Gran Rey\, Santa Cruz de Tenerife
CATEGORIES:Seminarios
ATTACH;FMTTYPE=image/jpeg:https://gomera-vida.es/wp-content/uploads/2026/01/Gong-600x394-1.jpg
GEO:28.0827097;-17.3322691
X-APPLE-STRUCTURED-LOCATION;VALUE=URI;X-ADDRESS=finca Argayall Acceso a la Playa de Argaga 38870 Valle Gran Rey Santa Cruz de Tenerife;X-APPLE-RADIUS=500;X-TITLE=Acceso a la Playa de Argaga:geo:-17.3322691,28.0827097
END:VEVENT
BEGIN:VEVENT
DTSTART;VALUE=DATE:20260425
DTEND;VALUE=DATE:20260503
DTSTAMP:20260425T024205
CREATED:20260113T233025Z
LAST-MODIFIED:20260113T233025Z
UID:10028662-1777075200-1777766399@gomera-vida.es
SUMMARY:Constelaciones de Familias y Sistemas 🌿
DESCRIPTION:Incluso cuando «lo hacemos lo mejor que podemos»\, algunas limitaciones vienen de más atrás: legados familiares\, lealtades invisibles\, pautas repetitivas. Las constelaciones familiares y sistémicas abren una nueva forma de ver las cosas: revelan pautas y enredos\, y nos permiten imaginar nuevas posibilidades. Durante esta semana\, trae tus preguntas\, problemas o decisiones\, y tómate el tiempo de escuchar: ¿qué es lo que realmente quiero? ¿hacia dónde se inclina mi corazón? ¿qué nuevo camino busca mi alma? El entorno está diseñado para estar protegido y atento\, para permitir que surjan cosas que necesitan ser vistas y puestas en orden\, y para apoyar elecciones que sean más justas\, sencillas y vivas.
URL:https://gomera-vida.es/es/evenement/family-and-system-constellations-%f0%9f%8c%bf/
LOCATION:finca Argayall\, Acceso a la Playa de Argaga\, 38870 Valle Gran Rey\, Santa Cruz de Tenerife
CATEGORIES:Seminarios
ATTACH;FMTTYPE=image/jpeg:https://gomera-vida.es/wp-content/uploads/2026/01/Gong-600x394-1.jpg
GEO:28.0827097;-17.3322691
X-APPLE-STRUCTURED-LOCATION;VALUE=URI;X-ADDRESS=finca Argayall Acceso a la Playa de Argaga 38870 Valle Gran Rey Santa Cruz de Tenerife;X-APPLE-RADIUS=500;X-TITLE=Acceso a la Playa de Argaga:geo:-17.3322691,28.0827097
END:VEVENT
END:VCALENDAR