BEGIN:VCALENDAR
VERSION:2.0
PRODID:-//Gomera Vida - ECPv6.15.18//NONSGML v1.0//EN
CALSCALE:GREGORIAN
METHOD:PUBLISH
X-WR-CALNAME:Gomera Vida
X-ORIGINAL-URL:https://gomera-vida.es/en/
X-WR-CALDESC:Events for Gomera Vida
REFRESH-INTERVAL;VALUE=DURATION:PT1H
X-Robots-Tag:noindex
X-PUBLISHED-TTL:PT1H
BEGIN:VTIMEZONE
TZID:Atlantic/Canary
BEGIN:DAYLIGHT
TZOFFSETFROM:+0000
TZOFFSETTO:+0100
TZNAME:WEST
DTSTART:20250330T010000
END:DAYLIGHT
BEGIN:STANDARD
TZOFFSETFROM:+0100
TZOFFSETTO:+0000
TZNAME:WET
DTSTART:20251026T010000
END:STANDARD
BEGIN:DAYLIGHT
TZOFFSETFROM:+0000
TZOFFSETTO:+0100
TZNAME:WEST
DTSTART:20260329T010000
END:DAYLIGHT
BEGIN:STANDARD
TZOFFSETFROM:+0100
TZOFFSETTO:+0000
TZNAME:WET
DTSTART:20261025T010000
END:STANDARD
BEGIN:DAYLIGHT
TZOFFSETFROM:+0000
TZOFFSETTO:+0100
TZNAME:WEST
DTSTART:20270328T010000
END:DAYLIGHT
BEGIN:STANDARD
TZOFFSETFROM:+0100
TZOFFSETTO:+0000
TZNAME:WET
DTSTART:20271031T010000
END:STANDARD
END:VTIMEZONE
BEGIN:VEVENT
DTSTART;VALUE=DATE:20260307
DTEND;VALUE=DATE:20260329
DTSTAMP:20260425T164350
CREATED:20260113T231716Z
LAST-MODIFIED:20260113T231716Z
UID:10028651-1772841600-1774742399@gomera-vida.es
SUMMARY:Mediation meets Meditation ☀️
DESCRIPTION:Three weeks to immerse yourself in the art of communication and learn how to transform conflict into opportunity. The training offers a “3 in 1” path: acquire a mediator’s language and posture (with certification)\, practice silent meditation\, conscious breathing and yoga every day\, and benefit from a powerful framework for real personal growth. You’ll learn how to accompany someone step by step: leaving a conflict dynamic\, moving towards clarification\, then opening up a space for solutions. The small-group pace\, daily meditative practice and “paradise by the sea” environment support integration: you don’t just learn tools\, you embody them.
URL:https://gomera-vida.es/en/evenement/mediation-meets-meditation-%e2%98%80%ef%b8%8f/
LOCATION:Argayall estate\, Access to Argaga Beach\, 38870 Valle Gran Rey\, Santa Cruz de Tenerife
CATEGORIES:Seminars
ATTACH;FMTTYPE=image/jpeg:https://gomera-vida.es/wp-content/uploads/2026/01/Gong-600x394-1.jpg
GEO:28.0849625;-17.3338839
X-APPLE-STRUCTURED-LOCATION;VALUE=URI;X-ADDRESS=Argayall estate Access to Argaga Beach 38870 Valle Gran Rey Santa Cruz de Tenerife;X-APPLE-RADIUS=500;X-TITLE=Access to Argaga Beach:geo:-17.3338839,28.0849625
END:VEVENT
END:VCALENDAR