BEGIN:VCALENDAR
VERSION:2.0
PRODID:-//Gomera Vida - ECPv6.15.18//NONSGML v1.0//EN
CALSCALE:GREGORIAN
METHOD:PUBLISH
X-ORIGINAL-URL:https://gomera-vida.es/de/
X-WR-CALDESC:Veranstaltungen für Gomera Vida
REFRESH-INTERVAL;VALUE=DURATION:PT1H
X-Robots-Tag:noindex
X-PUBLISHED-TTL:PT1H
BEGIN:VTIMEZONE
TZID:Atlantic/Canary
BEGIN:DAYLIGHT
TZOFFSETFROM:+0000
TZOFFSETTO:+0100
TZNAME:WEST
DTSTART:20250330T010000
END:DAYLIGHT
BEGIN:STANDARD
TZOFFSETFROM:+0100
TZOFFSETTO:+0000
TZNAME:WET
DTSTART:20251026T010000
END:STANDARD
BEGIN:DAYLIGHT
TZOFFSETFROM:+0000
TZOFFSETTO:+0100
TZNAME:WEST
DTSTART:20260329T010000
END:DAYLIGHT
BEGIN:STANDARD
TZOFFSETFROM:+0100
TZOFFSETTO:+0000
TZNAME:WET
DTSTART:20261025T010000
END:STANDARD
BEGIN:DAYLIGHT
TZOFFSETFROM:+0000
TZOFFSETTO:+0100
TZNAME:WEST
DTSTART:20270328T010000
END:DAYLIGHT
BEGIN:STANDARD
TZOFFSETFROM:+0100
TZOFFSETTO:+0000
TZNAME:WET
DTSTART:20271031T010000
END:STANDARD
END:VTIMEZONE
BEGIN:VEVENT
DTSTART;VALUE=DATE:20260425
DTEND;VALUE=DATE:20260503
DTSTAMP:20260425T121136
CREATED:20260113T233025Z
LAST-MODIFIED:20260113T233025Z
UID:10028663-1777075200-1777766399@gomera-vida.es
SUMMARY:Familien- und Systemaufstellungen 🌿.
DESCRIPTION:Selbst wenn man „sein Bestes gibt“\, kommen manche Einschränkungen von weiter her: Familienerbschaften\, unsichtbare Loyalitäten\, sich wiederholende Muster. Familien- und Systemaufstellungen eröffnen einen anderen Blickwinkel: Sie decken Muster und Verwicklungen auf und ermöglichen es\, sich neue Möglichkeiten vorzustellen. In dieser Woche bringen Sie Ihre Fragen\, Probleme oder Entscheidungen mit – und nehmen sich die Zeit zuzuhören: Was will ich wirklich? Wo liegt mein Herz? Der Rahmen ist geschützt und wohlwollend\, um zu zeigen\, was gesehen und geordnet werden muss\, und um gerechtere\, einfachere und lebendigere Entscheidungen zu unterstützen.
URL:https://gomera-vida.es/de/evenement/family-and-system-constellations-%f0%9f%8c%bf/
LOCATION:Landgut Argayall\, Zugang zum Argaga Strand\, 38870 Valle Gran Rey\, Santa Cruz de Tenerife
CATEGORIES:Seminare
ATTACH;FMTTYPE=image/jpeg:https://gomera-vida.es/wp-content/uploads/2026/01/Gong-600x394-1.jpg
GEO:28.0849625;-17.3338839
X-APPLE-STRUCTURED-LOCATION;VALUE=URI;X-ADDRESS=Landgut Argayall Zugang zum Argaga Strand 38870 Valle Gran Rey Santa Cruz de Tenerife;X-APPLE-RADIUS=500;X-TITLE=Zugang zum Argaga Strand:geo:-17.3338839,28.0849625
END:VEVENT
BEGIN:VEVENT
DTSTART;VALUE=DATE:20260502
DTEND;VALUE=DATE:20260524
DTSTAMP:20260425T121136
CREATED:20260113T233211Z
LAST-MODIFIED:20260113T233211Z
UID:10028666-1777680000-1779580799@gomera-vida.es
SUMMARY:Therapeutic Fasting Retreat Dr. Buchinger ☀️
DESCRIPTION:Ein Heilfasten-Retreat\, das von der Buchinger-Methode inspiriert wurde\, um Körper\, Geist und Lebensfreude wieder in Einklang zu bringen. Die Begleitung ist aufmerksam: klare Informationen\, praktische Ratschläge\, Verständnis der Auswirkungen des Fastens auf die Regeneration\, die Ausscheidungsorgane und das Nervensystem sowie Wege zur Integration in das tägliche Leben. Das Programm kombiniert körperliche und introspektive Praktiken: Kneippsche Anwendungen und Trockenbürsten\, Atmung (einschließlich Rebirthing)\, geführte Meditationen und innere Reisen\, bewusste Bewegung und freier Tanz\, Dehnübungen\, Rückenübungen\, Pilates\, Body Balance\, Entspannung… alles in Verbindung mit den Elementen und der Natur von Argayall. Der angekündigte Kurs umfasst Entgiftungstage\, Fastentage (mit ärztlichem Rat verlängerbar) und Erholungstage.
URL:https://gomera-vida.es/de/evenement/therapeutic-fasting-retreat-dr-buchinger-%e2%98%80%ef%b8%8f/
LOCATION:Landgut Argayall\, Zugang zum Argaga Strand\, 38870 Valle Gran Rey\, Santa Cruz de Tenerife
CATEGORIES:Seminare
ATTACH;FMTTYPE=image/jpeg:https://gomera-vida.es/wp-content/uploads/2026/01/Gong-600x394-1.jpg
GEO:28.0849625;-17.3338839
X-APPLE-STRUCTURED-LOCATION;VALUE=URI;X-ADDRESS=Landgut Argayall Zugang zum Argaga Strand 38870 Valle Gran Rey Santa Cruz de Tenerife;X-APPLE-RADIUS=500;X-TITLE=Zugang zum Argaga Strand:geo:-17.3338839,28.0849625
END:VEVENT
BEGIN:VEVENT
DTSTART;VALUE=DATE:20260530
DTEND;VALUE=DATE:20260531
DTSTAMP:20260425T121136
CREATED:20260113T233349Z
LAST-MODIFIED:20260113T233349Z
UID:10028672-1780099200-1780185599@gomera-vida.es
SUMMARY:Tantra Holiday How to be reborn ✨.
DESCRIPTION:Eine Woche „Urlaub & Transformation“ an einem magischen Ort: Bodywork\, Energiearbeit\, Rebirthing\, Tantra und Yoga werden miteinander verwoben\, um einen Raum des Bewusstseins und der Freude zu öffnen. Die Erfahrung lädt zu Selbstreflexion\, kraftvollen Meditationen\, Lachyoga und achtsamen Begegnungen ein – für Singles und Paare\, Anfänger und Vertraute. Der Geist ist auch der einer echten Auszeit: gemeinsame Ausflüge\, Wanderungen\, Lagerfeuerabende\, Zeit zum Schwimmen und Ausruhen und sogar ein optionaler Besuch des Obstgartens. Die Absicht: Die Umwandlung soll lebendig\, verkörpert und leicht sein… wie ein Urlaub für die Seele\, mit Herz\, Atem und Sonne. ☀️
URL:https://gomera-vida.es/de/evenement/tantra-holiday-how-to-be-reborn-%e2%9c%a8/
LOCATION:Landgut Argayall\, Zugang zum Argaga Strand\, 38870 Valle Gran Rey\, Santa Cruz de Tenerife
CATEGORIES:Seminare
ATTACH;FMTTYPE=image/jpeg:https://gomera-vida.es/wp-content/uploads/2026/01/Gong-600x394-1.jpg
GEO:28.0849625;-17.3338839
X-APPLE-STRUCTURED-LOCATION;VALUE=URI;X-ADDRESS=Landgut Argayall Zugang zum Argaga Strand 38870 Valle Gran Rey Santa Cruz de Tenerife;X-APPLE-RADIUS=500;X-TITLE=Zugang zum Argaga Strand:geo:-17.3338839,28.0849625
END:VEVENT
END:VCALENDAR